BEGIN:VCALENDAR
VERSION:2.0
PRODID:-// - ECPv6.15.20//NONSGML v1.0//EN
CALSCALE:GREGORIAN
METHOD:PUBLISH
X-ORIGINAL-URL:https://shumei.uk/yatesbury
X-WR-CALDESC:Events for 
REFRESH-INTERVAL;VALUE=DURATION:PT1H
X-Robots-Tag:noindex
X-PUBLISHED-TTL:PT1H
BEGIN:VTIMEZONE
TZID:Europe/London
BEGIN:DAYLIGHT
TZOFFSETFROM:+0000
TZOFFSETTO:+0100
TZNAME:BST
DTSTART:20180325T010000
END:DAYLIGHT
BEGIN:STANDARD
TZOFFSETFROM:+0100
TZOFFSETTO:+0000
TZNAME:GMT
DTSTART:20181028T010000
END:STANDARD
BEGIN:DAYLIGHT
TZOFFSETFROM:+0000
TZOFFSETTO:+0100
TZNAME:BST
DTSTART:20190331T010000
END:DAYLIGHT
BEGIN:STANDARD
TZOFFSETFROM:+0100
TZOFFSETTO:+0000
TZNAME:GMT
DTSTART:20191027T010000
END:STANDARD
BEGIN:DAYLIGHT
TZOFFSETFROM:+0000
TZOFFSETTO:+0100
TZNAME:BST
DTSTART:20200329T010000
END:DAYLIGHT
BEGIN:STANDARD
TZOFFSETFROM:+0100
TZOFFSETTO:+0000
TZNAME:GMT
DTSTART:20201025T010000
END:STANDARD
END:VTIMEZONE
BEGIN:VEVENT
DTSTART;TZID=Europe/London:20190816T113000
DTEND;TZID=Europe/London:20190818T153000
DTSTAMP:20260422T184342
CREATED:20190507T131358Z
LAST-MODIFIED:20190507T150619Z
UID:82-1565955000-1566142200@shumei.uk
SUMMARY:3-day intensive course
DESCRIPTION:This course is aimed at farmers/growers and students who wants to learn how to grow vegetables with Shumei Natural Agriculture way. We will learn both basic and more detailed concepts and feel the power of soil by experience some tasks in the field. \nVegan Lunch will be provided each day but you need to arrange breakfast and supper by yourself. \nIf you need an accommodation\, we can provide the list of B&B / Hotels near our farm. \nDay1:  Basic course (The importance of soil\, How to maintain fields and crops with the concept of “purification”)\nDay 2:  Advansed course 1\nDay 3: Advansed course 2 \nThe contents of the first day is the basic course. If you have attended the basice course between April and July\, please attend the second and the third day. \nIn the Advaced course\, we will cover topics such as “Role of compost”\, “Seed savings”\, “How to improve soil condition”. \n10:30am Lecture/Presentation + Q&A\n12pm Vegan lunch with natural agriculture ingredients\nAfter Lunch : Farm tour and field work.\nAround 2:30pm: End of the day \nSponsored by Stockfree Organic Services
URL:https://shumei.uk/yatesbury/event/natural-agriculture-3-day-intensive-course/
LOCATION:Shumei Yatesbury\, Shumei Yatesbury\, 3 Yatesbury House Farm\, Yatesbury\, Calne\, SN11 8YG\, United Kingdom
CATEGORIES:Event
ATTACH;FMTTYPE=image/jpeg:https://shumei.uk/yatesbury/wp-content/uploads/sites/2/2019/05/P1111452.jpg
ORGANIZER;CN="Shumei Yatesbury":MAILTO:yatesbury@shumei.eu
END:VEVENT
END:VCALENDAR